BEGIN:VCALENDAR
VERSION:2.0
PRODID:-//Königstein - Erleben - ECPv6.15.19//NONSGML v1.0//EN
CALSCALE:GREGORIAN
METHOD:PUBLISH
X-ORIGINAL-URL:https://xn--knigstein-erleben-zzb.de
X-WR-CALDESC:Veranstaltungen für Königstein - Erleben
REFRESH-INTERVAL;VALUE=DURATION:PT1H
X-Robots-Tag:noindex
X-PUBLISHED-TTL:PT1H
BEGIN:VTIMEZONE
TZID:Europe/Berlin
BEGIN:DAYLIGHT
TZOFFSETFROM:+0100
TZOFFSETTO:+0200
TZNAME:CEST
DTSTART:20250330T010000
END:DAYLIGHT
BEGIN:STANDARD
TZOFFSETFROM:+0200
TZOFFSETTO:+0100
TZNAME:CET
DTSTART:20251026T010000
END:STANDARD
BEGIN:DAYLIGHT
TZOFFSETFROM:+0100
TZOFFSETTO:+0200
TZNAME:CEST
DTSTART:20260329T010000
END:DAYLIGHT
BEGIN:STANDARD
TZOFFSETFROM:+0200
TZOFFSETTO:+0100
TZNAME:CET
DTSTART:20261025T010000
END:STANDARD
BEGIN:DAYLIGHT
TZOFFSETFROM:+0100
TZOFFSETTO:+0200
TZNAME:CEST
DTSTART:20270328T010000
END:DAYLIGHT
BEGIN:STANDARD
TZOFFSETFROM:+0200
TZOFFSETTO:+0100
TZNAME:CET
DTSTART:20271031T010000
END:STANDARD
END:VTIMEZONE
BEGIN:VEVENT
DTSTART;TZID=Europe/Berlin:20260429T090000
DTEND;TZID=Europe/Berlin:20260429T170000
DTSTAMP:20260419T222315
CREATED:20260316T155404Z
LAST-MODIFIED:20260316T155404Z
UID:10021823-1777453200-1777482000@xn--knigstein-erleben-zzb.de
SUMMARY:Mittwochswanderung des Taunusklub Königstein
DESCRIPTION:Durch die historische Gartenstadt und Villenkolonie Dreieich-Buchschlag nach Sprendlingen\nAbfahrt Königstein Stadtmitte mit Bus 223 (F) um 09.05 Uhr bis Kronberg Bhf\, dort Umstieg in die S4 bis Frankfurt-Taunusanlage und weiter mit S6 nach Dreieich-Buchschlag\, Abmarsch um 10.25 Uhr\, Führung durch die Villenkolonie\, danach durch Wiesen und Wald nach Sprendlingen (5km) \nEinkehr: Casa Grande (Sprendlingen) ca. 13.00 Uhr \nRückfahrt mit Bus OF-64 bis Buchschlag um 14.38\, 15.08 Uhr oder zu Fuß (3 km) \n \nFoto: Taunusklub Königstein \n 
URL:https://xn--knigstein-erleben-zzb.de/event/mittwochswanderung-des-taunusklub-koenigstein-41/
LOCATION:Treffpunkt & Abfahrt: Bushaltestellen Stadtmitte\, Georg-Pingler-Straße\, Königstein im Taunus\, Hessen\, 61462\, Germany
CATEGORIES:Allgemein,Ausflug,Wandern
ATTACH;FMTTYPE=image/jpeg:https://xn--knigstein-erleben-zzb.de/wp-content/uploads/2026/03/IMG_2275-2-scaled.jpeg
GEO:50.1837581;8.4677721
X-APPLE-STRUCTURED-LOCATION;VALUE=URI;X-ADDRESS=Treffpunkt & Abfahrt: Bushaltestellen Stadtmitte Georg-Pingler-Straße Königstein im Taunus Hessen 61462 Germany;X-APPLE-RADIUS=500;X-TITLE=Georg-Pingler-Straße:geo:8.4677721,50.1837581
END:VEVENT
BEGIN:VEVENT
DTSTART;TZID=Europe/Berlin:20260429T103000
DTEND;TZID=Europe/Berlin:20260429T153000
DTSTAMP:20260419T222315
CREATED:20260316T155919Z
LAST-MODIFIED:20260316T155919Z
UID:10021825-1777458600-1777476600@xn--knigstein-erleben-zzb.de
SUMMARY:Kurzwanderung durch das Braubachtal zur Roten Mühle
DESCRIPTION:Kurzwanderung vorbei an der vom Taunusklub gespendeten Zerreiche ins Braubachtal und um den Rodenberg zur Roten Mühle\nAbfahrt Königstein Stadtmitte mit Bus 263 um 10.53 Uhr bis Haltestelle Fliederbusch \nEinkehr: ca. 13.00 Uhr \nRückfahrt mit Bus 263 ab Fliederbusch stdl. …26 Uhr alternativ RB12 1/2 stdl. …21 und…51 Uhr \n \nFoto: Taunusklub Königstein
URL:https://xn--knigstein-erleben-zzb.de/event/kurzwanderung-durch-das-braubachtal-zur-roten-muehle/
LOCATION:Treffpunkt & Abfahrt: Bushaltestellen Stadtmitte\, Georg-Pingler-Straße\, Königstein im Taunus\, Hessen\, 61462\, Germany
CATEGORIES:Allgemein,Ausflug,Wandern
ATTACH;FMTTYPE=image/jpeg:https://xn--knigstein-erleben-zzb.de/wp-content/uploads/2026/03/IMG_6708-scaled.jpeg
GEO:50.1837581;8.4677721
X-APPLE-STRUCTURED-LOCATION;VALUE=URI;X-ADDRESS=Treffpunkt & Abfahrt: Bushaltestellen Stadtmitte Georg-Pingler-Straße Königstein im Taunus Hessen 61462 Germany;X-APPLE-RADIUS=500;X-TITLE=Georg-Pingler-Straße:geo:8.4677721,50.1837581
END:VEVENT
BEGIN:VEVENT
DTSTART;TZID=Europe/Berlin:20260512T100000
DTEND;TZID=Europe/Berlin:20260512T170000
DTSTAMP:20260419T222315
CREATED:20260109T132125Z
LAST-MODIFIED:20260109T132549Z
UID:10019254-1778580000-1778605200@xn--knigstein-erleben-zzb.de
SUMMARY:Seniorenfahrt von Bürger helfen Bürgern e.V. Königstein
DESCRIPTION:Herzliche Einladung zur Seniorenfahrt von Bürger helfen Bürgern e.V. nach Walldürn/Odenwald mit Besichtigung der Nudelfabrik Berres. \nWeitere Informationen folgen. \n  \n \nLogo: Verein Bürger helfen Bürgern e.V. Königstein
URL:https://xn--knigstein-erleben-zzb.de/event/seniorenfahrt-von-buerger-helfen-buergern-e-v-koenigstein/
LOCATION:Treffpunkt & Abfahrt: Bushaltestellen Stadtmitte\, Georg-Pingler-Straße\, Königstein im Taunus\, Hessen\, 61462\, Germany
CATEGORIES:Allgemein,Ausflug,Senioren
ATTACH;FMTTYPE=image/jpeg:https://xn--knigstein-erleben-zzb.de/wp-content/uploads/2024/10/Buerger-helfen-Buergern-Koenigstein.jpg
GEO:50.1837581;8.4677721
X-APPLE-STRUCTURED-LOCATION;VALUE=URI;X-ADDRESS=Treffpunkt & Abfahrt: Bushaltestellen Stadtmitte Georg-Pingler-Straße Königstein im Taunus Hessen 61462 Germany;X-APPLE-RADIUS=500;X-TITLE=Georg-Pingler-Straße:geo:8.4677721,50.1837581
END:VEVENT
BEGIN:VEVENT
DTSTART;TZID=Europe/Berlin:20260819T123000
DTEND;TZID=Europe/Berlin:20260819T123000
DTSTAMP:20260419T222315
CREATED:20260109T133846Z
LAST-MODIFIED:20260109T133910Z
UID:10019255-1787142600-1787142600@xn--knigstein-erleben-zzb.de
SUMMARY:Seniorenfahrt von Bürger helfen Bürgern e.V.
DESCRIPTION:Herzliche Einladung zum Seniorenausflug von Bürger helfen Bürgern e.V. Königstein. \nMehr Informationen folgen. \n  \n \nLogo: Bürger helfen Bürgern e.V. Königstein
URL:https://xn--knigstein-erleben-zzb.de/event/seniorenfahrt-von-buerger-helfen-buergern-e-v/
LOCATION:Treffpunkt & Abfahrt: Bushaltestellen Stadtmitte\, Georg-Pingler-Straße\, Königstein im Taunus\, Hessen\, 61462\, Germany
CATEGORIES:Allgemein,Senioren
ATTACH;FMTTYPE=image/jpeg:https://xn--knigstein-erleben-zzb.de/wp-content/uploads/2024/10/Buerger-helfen-Buergern-Koenigstein.jpg
GEO:50.1837581;8.4677721
X-APPLE-STRUCTURED-LOCATION;VALUE=URI;X-ADDRESS=Treffpunkt & Abfahrt: Bushaltestellen Stadtmitte Georg-Pingler-Straße Königstein im Taunus Hessen 61462 Germany;X-APPLE-RADIUS=500;X-TITLE=Georg-Pingler-Straße:geo:8.4677721,50.1837581
END:VEVENT
END:VCALENDAR