BEGIN:VCALENDAR
VERSION:2.0
PRODID:-//Königstein - Erleben - ECPv6.15.19//NONSGML v1.0//EN
CALSCALE:GREGORIAN
METHOD:PUBLISH
X-WR-CALNAME:Königstein - Erleben
X-ORIGINAL-URL:https://xn--knigstein-erleben-zzb.de
X-WR-CALDESC:Veranstaltungen für Königstein - Erleben
REFRESH-INTERVAL;VALUE=DURATION:PT1H
X-Robots-Tag:noindex
X-PUBLISHED-TTL:PT1H
BEGIN:VTIMEZONE
TZID:Europe/Berlin
BEGIN:DAYLIGHT
TZOFFSETFROM:+0100
TZOFFSETTO:+0200
TZNAME:CEST
DTSTART:20230326T010000
END:DAYLIGHT
BEGIN:STANDARD
TZOFFSETFROM:+0200
TZOFFSETTO:+0100
TZNAME:CET
DTSTART:20231029T010000
END:STANDARD
BEGIN:DAYLIGHT
TZOFFSETFROM:+0100
TZOFFSETTO:+0200
TZNAME:CEST
DTSTART:20240331T010000
END:DAYLIGHT
BEGIN:STANDARD
TZOFFSETFROM:+0200
TZOFFSETTO:+0100
TZNAME:CET
DTSTART:20241027T010000
END:STANDARD
BEGIN:DAYLIGHT
TZOFFSETFROM:+0100
TZOFFSETTO:+0200
TZNAME:CEST
DTSTART:20250330T010000
END:DAYLIGHT
BEGIN:STANDARD
TZOFFSETFROM:+0200
TZOFFSETTO:+0100
TZNAME:CET
DTSTART:20251026T010000
END:STANDARD
BEGIN:DAYLIGHT
TZOFFSETFROM:+0100
TZOFFSETTO:+0200
TZNAME:CEST
DTSTART:20260329T010000
END:DAYLIGHT
BEGIN:STANDARD
TZOFFSETFROM:+0200
TZOFFSETTO:+0100
TZNAME:CET
DTSTART:20261025T010000
END:STANDARD
BEGIN:DAYLIGHT
TZOFFSETFROM:+0100
TZOFFSETTO:+0200
TZNAME:CEST
DTSTART:20270328T010000
END:DAYLIGHT
BEGIN:STANDARD
TZOFFSETFROM:+0200
TZOFFSETTO:+0100
TZNAME:CET
DTSTART:20271031T010000
END:STANDARD
END:VTIMEZONE
BEGIN:VEVENT
DTSTART;TZID=Europe/Berlin:20260314T090000
DTEND;TZID=Europe/Berlin:20260314T120000
DTSTAMP:20260422T210404
CREATED:20260205T152123Z
LAST-MODIFIED:20260303T164247Z
UID:10019420-1773478800-1773489600@xn--knigstein-erleben-zzb.de
SUMMARY:Sauberhaftes Königstein
DESCRIPTION:Gemeinsam unsere Kurstadt vom Müll befreien und wieder schön machen.\nAls kleines Dankeschön gibt es zum Abschluss auf dem Gelände des Betriebshofs ein deftiges Mittagsessen für alle Teilnehmenden. Gestiftet von der Klinik Königstein der KVB.
URL:https://xn--knigstein-erleben-zzb.de/event/sauberhaftes-koenigstein-3/
LOCATION:Treffpunkt: Kapuzinerplatz Stadtmitte\, Georg-Pingler-Straße\, Königstein im Taunus\, Hessen\, 61462\, Germany
CATEGORIES:Allgemein
ATTACH;FMTTYPE=application/pdf:https://xn--knigstein-erleben-zzb.de/wp-content/uploads/2026/02/2026-03-14-Sauberhaftes-Koenigstein-Plakat-2026.pdf
GEO:50.1837581;8.4677721
X-APPLE-STRUCTURED-LOCATION;VALUE=URI;X-ADDRESS=Treffpunkt: Kapuzinerplatz Stadtmitte Georg-Pingler-Straße Königstein im Taunus Hessen 61462 Germany;X-APPLE-RADIUS=500;X-TITLE=Georg-Pingler-Straße:geo:8.4677721,50.1837581
END:VEVENT
BEGIN:VEVENT
DTSTART;TZID=Europe/Berlin:20250927T140000
DTEND;TZID=Europe/Berlin:20250927T140000
DTSTAMP:20260422T210404
CREATED:20250924T164024Z
LAST-MODIFIED:20250924T164534Z
UID:10017405-1758981600-1758981600@xn--knigstein-erleben-zzb.de
SUMMARY:ADFC-Stadtradeln-Abschlusstour(en) & großes Tour-de-Hochtaunuskreis-Finale
DESCRIPTION:Zum Auftakt des Stadtradeln-Abschlusses laden der ADFC Königstein und Kronberg zu gemütlichen Rundfahrten vor der Höhe herzlich ein.\nStadtradeln-Abschlusstour Teil 1 (mit dem ADFC-Königstein) | Kapuzinerplatz 14.00 Uhr\nDie Tour ist rund 20 km lang und verläuft wie folgt: Von Königstein über Altenhain ins Schmiebachtal zum Kelkheim Kloster\, weiter ins Braubachtal und dann geht es über Schneidhain auch schon wieder zurück nach Königstein\, … \nZwischenspiel\n… wo am Rathaus (gegen 16.00 Uhr) die Staffelstabträger der Tour de Hochtaunuskreis abgeholt und zur feierlichen Weitergabe nach Kronberg begleitet werden. In Kronberg wird der Staffelstab an Bürgermeister Christoph König übergeben und dann geht’s wieder heim nach Königstein … \nStadtradeln-Abschlusstour Teil 2 (mit dem ADFC-Kronberg) | Berliner Platz (ca.) 17.00 Uhr\n… oder man genießt noch eine Runde mit dem ADFC Kronberg\, die den zweiten Teil der Stadtradeln-Abschlusstour anbieten\, die durch die Altstadt und auf der Safari-Route zum Arboretum führt\, das Kuhkarrussel passiert und über den Figurenpark in Niederhöchstadt wieder zurück nach Kronberg führt.
URL:https://xn--knigstein-erleben-zzb.de/event/adfc-stadtradeln-abschlusstouren/
LOCATION:Treffpunkt: Kapuzinerplatz Stadtmitte\, Georg-Pingler-Straße\, Königstein im Taunus\, Hessen\, 61462\, Germany
ATTACH;FMTTYPE=image/png:https://xn--knigstein-erleben-zzb.de/wp-content/uploads/2025/09/Stadtradeln-Kind-A1-ChatGPT-scaled.png
ORGANIZER;CN="ADFC Hochtaunus e.V.%2C Ortsgruppe K%C3%B6nigstein":MAILTO:didier.hufler@adfc-hochtaunus.de
GEO:50.1837581;8.4677721
X-APPLE-STRUCTURED-LOCATION;VALUE=URI;X-ADDRESS=Treffpunkt: Kapuzinerplatz Stadtmitte Georg-Pingler-Straße Königstein im Taunus Hessen 61462 Germany;X-APPLE-RADIUS=500;X-TITLE=Georg-Pingler-Straße:geo:8.4677721,50.1837581
END:VEVENT
BEGIN:VEVENT
DTSTART;TZID=Europe/Berlin:20250921T110000
DTEND;TZID=Europe/Berlin:20250921T110000
DTSTAMP:20260422T210404
CREATED:20250918T111530Z
LAST-MODIFIED:20250918T111940Z
UID:10017333-1758452400-1758452400@xn--knigstein-erleben-zzb.de
SUMMARY:Radtour zum Hessenpark
DESCRIPTION:Gesellige Radtour zum zweitgrößten Freilichtmuseum Deutschlands: dem Hessenpark in Neu-Anspach\nDie Tour führt über Altkönigstraße\, Reichenbachweg und Fuchstanz zum Sandplacken. Auf „der anderen Seite“ geht es wieder hinunter bis zum Hessenpark. Ankunft dort wird gegen 12.30 Uhr sein; Aufenthalt im oder am Hessenpark nach Belieben. Eine gemeinsame Rückfahrt startet um 15.00 Uhr\, wer mag kann natürlich länger bleiben. \nEintritt Hessenpark (wäre selbst zu zahlen): 11 Euro pro Person\, ab 10 Personen: 9\,50 Euro; Familienkarte: 22 Euro\, halbe Familienkarte: 11 Euro\, weitere Besucherinformationen. („TransformR“ könnten noch Freikarten haben). Es gibt am Hessenpark eingeschränkte Möglichkeiten E-Bikes aufzuladen\, eine sparsame Anfahrt ist angeraten. \nDie Gesamtstrecke ist 36\,5 km lang und geeignet für E-Bikende und trainierte klassisch Radelnde. Guide Christian Bandy fährt sparsam E-Bike. \nDie Wegebeschaffenheit im Stadtgebiet Königstein\, am Sandplacken und in der Umgebung des Hessenparks werden Verkehrsstraßen befahren\, ansonsten führt der Weg auf überwiegend gut befahrbaren Forst- oder Wirtschaftswegen. \nDie Wegeführungen im Detail können mit den folgenden Links betrachtet werden:\n• Hinfahrt (Link führt zu Bergfex) über Reichenbachweg\, Fuchstanz\, Sandplacken\, Hessenpark; ca. 17\,5 km\, ca. 1:30 Minuten\n• Rückfahrt (Link führt zu Bergfex) über Saalburg\, Stadtranderholung\, TIZ\, Königstein; ca. 19 km\, ca. 1:15 Minuten \n \nImmer gerne: Radeln im Taunus (Foto: Christian Bandy)
URL:https://xn--knigstein-erleben-zzb.de/event/radtour-zum-hessenpark/
LOCATION:Treffpunkt: Kapuzinerplatz Stadtmitte\, Georg-Pingler-Straße\, Königstein im Taunus\, Hessen\, 61462\, Germany
CATEGORIES:Allgemein,Ausflug,Heilklima,Radeln,Unterhaltung
ATTACH;FMTTYPE=image/jpeg:https://xn--knigstein-erleben-zzb.de/wp-content/uploads/2025/09/Radeln-im-Taunus-CBandy.P1020874.25.9.2021-scaled.jpg
ORGANIZER;CN="Kur- und Stadtinformation K%C3%B6nigstein":MAILTO:info@koenigstein.de
GEO:50.1837581;8.4677721
X-APPLE-STRUCTURED-LOCATION;VALUE=URI;X-ADDRESS=Treffpunkt: Kapuzinerplatz Stadtmitte Georg-Pingler-Straße Königstein im Taunus Hessen 61462 Germany;X-APPLE-RADIUS=500;X-TITLE=Georg-Pingler-Straße:geo:8.4677721,50.1837581
END:VEVENT
BEGIN:VEVENT
DTSTART;TZID=Europe/Berlin:20250503T110000
DTEND;TZID=Europe/Berlin:20250503T120000
DTSTAMP:20260422T210404
CREATED:20250310T075802Z
LAST-MODIFIED:20250424T085407Z
UID:10004375-1746270000-1746273600@xn--knigstein-erleben-zzb.de
SUMMARY:Line Dance Flashmob
DESCRIPTION:Königstein wird zur Tanzstadt!\nErstmals findet am 3. Mai 2025 um 11 h auf dem Kapuzinerplatz  der  INTERNATIONAL LINE DANCE FLASHMOB  weltweit statt\, und Königstein ist dabei! \nAlle Tanzinteressierten in und um Königstein sind herzlich eingeladen\, dabei zu sein. Sie werden von Heidi Koch\, einer langjährigen Trainerin der SG BW Schneidhain in den Tanz eingeführt und los geht’s! \nFoto: Florian Fuchs AI generiert \nFoto: Florian Fuchs AI generiert \n 
URL:https://xn--knigstein-erleben-zzb.de/event/line-dance-flashmob/
LOCATION:Treffpunkt: Kapuzinerplatz Stadtmitte\, Georg-Pingler-Straße\, Königstein im Taunus\, Hessen\, 61462\, Germany
CATEGORIES:Allgemein
ATTACH;FMTTYPE=image/jpeg:https://xn--knigstein-erleben-zzb.de/wp-content/uploads/2025/03/Firefly-Closeup-of-some-different-cowboy-boots-worn-by-dancers-with-jeans-in-a-stable-187032-2-scaled.jpg
GEO:50.1837581;8.4677721
X-APPLE-STRUCTURED-LOCATION;VALUE=URI;X-ADDRESS=Treffpunkt: Kapuzinerplatz Stadtmitte Georg-Pingler-Straße Königstein im Taunus Hessen 61462 Germany;X-APPLE-RADIUS=500;X-TITLE=Georg-Pingler-Straße:geo:8.4677721,50.1837581
END:VEVENT
BEGIN:VEVENT
DTSTART;TZID=Europe/Berlin:20250315T090000
DTEND;TZID=Europe/Berlin:20250315T120000
DTSTAMP:20260422T210404
CREATED:20250204T111354Z
LAST-MODIFIED:20250204T111354Z
UID:10004331-1742029200-1742040000@xn--knigstein-erleben-zzb.de
SUMMARY:Sauberhaftes Königstein
DESCRIPTION:Sauberhaftes Königstein \nGemeinsam unsere Stadt schöner machen und von Müll befreien. Treffpunkt ist um 9.00 Uhr auf dem Kapuzinerplatz. Als Dankeschön gibt es zum Abschluss ein deftiges Mittagessen für alle Teilnehmer – gestiftet von der Klinik Königstein der KVB.
URL:https://xn--knigstein-erleben-zzb.de/event/sauberhaftes-koenigstein-2/
LOCATION:Treffpunkt: Kapuzinerplatz Stadtmitte\, Georg-Pingler-Straße\, Königstein im Taunus\, Hessen\, 61462\, Germany
CATEGORIES:Allgemein
ATTACH;FMTTYPE=image/jpeg:https://xn--knigstein-erleben-zzb.de/wp-content/uploads/2025/02/Plakat-Sauberhaftes-Koenigstein-2025-scaled.jpg
GEO:50.1837581;8.4677721
X-APPLE-STRUCTURED-LOCATION;VALUE=URI;X-ADDRESS=Treffpunkt: Kapuzinerplatz Stadtmitte Georg-Pingler-Straße Königstein im Taunus Hessen 61462 Germany;X-APPLE-RADIUS=500;X-TITLE=Georg-Pingler-Straße:geo:8.4677721,50.1837581
END:VEVENT
BEGIN:VEVENT
DTSTART;TZID=Europe/Berlin:20240316T090000
DTEND;TZID=Europe/Berlin:20240316T120000
DTSTAMP:20260422T210404
CREATED:20240311T084230Z
LAST-MODIFIED:20240311T085134Z
UID:10000449-1710579600-1710590400@xn--knigstein-erleben-zzb.de
SUMMARY:Sauberhaftes Königstein
DESCRIPTION:Sauberhaftes Königstein \nGemeinsam unsere Stadt schöner machen und von Müll befreien. Treffpunkt ist um 9.00 Uhr auf dem Kapuzinerplatz. Als Dankeschön gibt es zum Abschluss ein deftiges Mittagessen für alle Teilnehmer – gestiftet von der Klinik Königstein der KVB.
URL:https://xn--knigstein-erleben-zzb.de/event/sauberhaftes-koenigstein/
LOCATION:Treffpunkt: Kapuzinerplatz Stadtmitte\, Georg-Pingler-Straße\, Königstein im Taunus\, Hessen\, 61462\, Germany
CATEGORIES:Allgemein
ATTACH;FMTTYPE=application/pdf:https://xn--knigstein-erleben-zzb.de/wp-content/uploads/2024/03/2024-03-16-Sauberhaftes-Koenigstein.pdf
GEO:50.1837581;8.4677721
X-APPLE-STRUCTURED-LOCATION;VALUE=URI;X-ADDRESS=Treffpunkt: Kapuzinerplatz Stadtmitte Georg-Pingler-Straße Königstein im Taunus Hessen 61462 Germany;X-APPLE-RADIUS=500;X-TITLE=Georg-Pingler-Straße:geo:8.4677721,50.1837581
END:VEVENT
END:VCALENDAR