BEGIN:VCALENDAR
VERSION:2.0
PRODID:-//Königstein - Erleben - ECPv6.15.19//NONSGML v1.0//EN
CALSCALE:GREGORIAN
METHOD:PUBLISH
X-ORIGINAL-URL:https://xn--knigstein-erleben-zzb.de
X-WR-CALDESC:Veranstaltungen für Königstein - Erleben
REFRESH-INTERVAL;VALUE=DURATION:PT1H
X-Robots-Tag:noindex
X-PUBLISHED-TTL:PT1H
BEGIN:VTIMEZONE
TZID:Europe/Berlin
BEGIN:DAYLIGHT
TZOFFSETFROM:+0100
TZOFFSETTO:+0200
TZNAME:CEST
DTSTART:20250330T010000
END:DAYLIGHT
BEGIN:STANDARD
TZOFFSETFROM:+0200
TZOFFSETTO:+0100
TZNAME:CET
DTSTART:20251026T010000
END:STANDARD
BEGIN:DAYLIGHT
TZOFFSETFROM:+0100
TZOFFSETTO:+0200
TZNAME:CEST
DTSTART:20260329T010000
END:DAYLIGHT
BEGIN:STANDARD
TZOFFSETFROM:+0200
TZOFFSETTO:+0100
TZNAME:CET
DTSTART:20261025T010000
END:STANDARD
BEGIN:DAYLIGHT
TZOFFSETFROM:+0100
TZOFFSETTO:+0200
TZNAME:CEST
DTSTART:20270328T010000
END:DAYLIGHT
BEGIN:STANDARD
TZOFFSETFROM:+0200
TZOFFSETTO:+0100
TZNAME:CET
DTSTART:20271031T010000
END:STANDARD
END:VTIMEZONE
BEGIN:VEVENT
DTSTART;TZID=Europe/Berlin:20260909T183000
DTEND;TZID=Europe/Berlin:20260909T183000
DTSTAMP:20260425T122114
CREATED:20260326T162959Z
LAST-MODIFIED:20260326T162959Z
UID:10021860-1788978600-1788978600@xn--knigstein-erleben-zzb.de
SUMMARY:Eine kleine Stadtführung
DESCRIPTION:Unterhaltsamer Spaziergang durch Königsteins Stadtmitte\nAuf der ca. einstündigen Tour wird kurzweilig und informativ Wissenswertes und Unterhaltsames aus rund 800 Jahren Königsteiner Stadtgeschichte vorgestellt. Von der Entwicklung des Fleckens am Fuße der größten Burg im Vordertaunus zum anerkannten Gesundheitsstandort\, der er heute ist. Unterwegs werden historisch bedeutsame Gebäude\, der Kurpark und die Altstadt erkundet. \nDie Teilnahme ist kostenfrei\, um Anmeldung wird gebeten:\n(0 61 74) 202 300 oder anmeldung@koenigstein.de \n \nFoto: Leonhard Helm
URL:https://xn--knigstein-erleben-zzb.de/event/eine-kleine-stadtfuehrung-26/2026-09-09/
LOCATION:Treffpunkt: Kur- und Stadtinformation\, Hauptstraße 13 a\, Königstein im Taunus\, Hessen\, 61462\, Germany
CATEGORIES:Allgemein,Führung,Geschichte,Kultur,Unterhaltung
ATTACH;FMTTYPE=image/jpeg:https://xn--knigstein-erleben-zzb.de/wp-content/uploads/2023/07/Altes-Rathaus.jpg
ORGANIZER;CN="Stadtarchiv K%C3%B6nigstein in Kooperation mit der Kur- und Stadtinformation":MAILTO:info@koenigstein.de
GEO:50.1820975;8.4668501
X-APPLE-STRUCTURED-LOCATION;VALUE=URI;X-ADDRESS=Treffpunkt: Kur- und Stadtinformation Hauptstraße 13 a Königstein im Taunus Hessen 61462 Germany;X-APPLE-RADIUS=500;X-TITLE=Hauptstraße 13 a:geo:8.4668501,50.1820975
END:VEVENT
BEGIN:VEVENT
DTSTART;TZID=Europe/Berlin:20260911T183000
DTEND;TZID=Europe/Berlin:20260911T183000
DTSTAMP:20260425T122114
CREATED:20260326T164009Z
LAST-MODIFIED:20260326T164451Z
UID:10021880-1789151400-1789151400@xn--knigstein-erleben-zzb.de
SUMMARY:Eine kleine Heilklima-Wanderung
DESCRIPTION:Kurzweiliger und belebender Ausflug ins reizende Klima Königsteins\n„Eine kleine Heilklima-Wanderung“ führt auf den Königsteiner Burgberg oder in das innerstädtische Naturschutzgebiet des „Falkensteiner Hains“ und dauert rund 90 Minuten – manchmal etwas länger. \nNaturnahe Pfade und viele schöne Aus- und Ansichten entlang des Weges sorgen für Ausgleich und Wohlbefinden. Die Wegführung kann abschnittsweise geländegängig und/oder anspruchsvoll sein. Kleine Übungseinheiten zur Mobilisierung\, Kräftigung\, Dehnung und Atmung sowie Pulsmessungen runden das Erlebnis ab. \nDie Teilnahme ist kostenlos\, um Anmeldung wird gebeten:\n(0 61 74) 202 300 oder anmeldung@koenigstein.de \nDas Heilklima-Wandern\nHeilklima-Wandern ist das Gehen im Gelände unter möglichst variablen Klimareizen: Spürbare Veränderungen der Temperatur auf verschiedenen Höhenlagen\, auf wechselnd sonnigen und schattigen oder windigen und windgeschützten Wegen fördern die eigene Widerstandfähigkeit. \nDie reine\, frische Luft und die geschmeidig ineinander übergehenden Höhen und Täler das Hochtaunus bieten ein optimales Terrain zum Wandern. \nFür die Teilnahme an einer Heilklima-Wanderung ist eine gute Gesundheit Voraussetzung. \n \nFoto: Heiko Rhode
URL:https://xn--knigstein-erleben-zzb.de/event/eine-kleine-heilklima-wanderung-74-2-2-2/2026-09-11/
LOCATION:Treffpunkt: Kur- und Stadtinformation\, Hauptstraße 13 a\, Königstein im Taunus\, Hessen\, 61462\, Germany
CATEGORIES:Heilklima,Wandern
ATTACH;FMTTYPE=image/jpeg:https://xn--knigstein-erleben-zzb.de/wp-content/uploads/2026/02/Heilklima-Wanderung-Heiko-Rhode.19.06.2020_19.300-scaled.jpg
ORGANIZER;CN="Kur- und Stadtinformation K%C3%B6nigstein":MAILTO:info@koenigstein.de
GEO:50.1820975;8.4668501
X-APPLE-STRUCTURED-LOCATION;VALUE=URI;X-ADDRESS=Treffpunkt: Kur- und Stadtinformation Hauptstraße 13 a Königstein im Taunus Hessen 61462 Germany;X-APPLE-RADIUS=500;X-TITLE=Hauptstraße 13 a:geo:8.4668501,50.1820975
END:VEVENT
BEGIN:VEVENT
DTSTART;TZID=Europe/Berlin:20260918T183000
DTEND;TZID=Europe/Berlin:20260918T183000
DTSTAMP:20260425T122114
CREATED:20260326T164009Z
LAST-MODIFIED:20260326T164451Z
UID:10021881-1789756200-1789756200@xn--knigstein-erleben-zzb.de
SUMMARY:Eine kleine Heilklima-Wanderung
DESCRIPTION:Kurzweiliger und belebender Ausflug ins reizende Klima Königsteins\n„Eine kleine Heilklima-Wanderung“ führt auf den Königsteiner Burgberg oder in das innerstädtische Naturschutzgebiet des „Falkensteiner Hains“ und dauert rund 90 Minuten – manchmal etwas länger. \nNaturnahe Pfade und viele schöne Aus- und Ansichten entlang des Weges sorgen für Ausgleich und Wohlbefinden. Die Wegführung kann abschnittsweise geländegängig und/oder anspruchsvoll sein. Kleine Übungseinheiten zur Mobilisierung\, Kräftigung\, Dehnung und Atmung sowie Pulsmessungen runden das Erlebnis ab. \nDie Teilnahme ist kostenlos\, um Anmeldung wird gebeten:\n(0 61 74) 202 300 oder anmeldung@koenigstein.de \nDas Heilklima-Wandern\nHeilklima-Wandern ist das Gehen im Gelände unter möglichst variablen Klimareizen: Spürbare Veränderungen der Temperatur auf verschiedenen Höhenlagen\, auf wechselnd sonnigen und schattigen oder windigen und windgeschützten Wegen fördern die eigene Widerstandfähigkeit. \nDie reine\, frische Luft und die geschmeidig ineinander übergehenden Höhen und Täler das Hochtaunus bieten ein optimales Terrain zum Wandern. \nFür die Teilnahme an einer Heilklima-Wanderung ist eine gute Gesundheit Voraussetzung. \n \nFoto: Heiko Rhode
URL:https://xn--knigstein-erleben-zzb.de/event/eine-kleine-heilklima-wanderung-74-2-2-2/2026-09-18/
LOCATION:Treffpunkt: Kur- und Stadtinformation\, Hauptstraße 13 a\, Königstein im Taunus\, Hessen\, 61462\, Germany
CATEGORIES:Heilklima,Wandern
ATTACH;FMTTYPE=image/jpeg:https://xn--knigstein-erleben-zzb.de/wp-content/uploads/2026/02/Heilklima-Wanderung-Heiko-Rhode.19.06.2020_19.300-scaled.jpg
ORGANIZER;CN="Kur- und Stadtinformation K%C3%B6nigstein":MAILTO:info@koenigstein.de
GEO:50.1820975;8.4668501
X-APPLE-STRUCTURED-LOCATION;VALUE=URI;X-ADDRESS=Treffpunkt: Kur- und Stadtinformation Hauptstraße 13 a Königstein im Taunus Hessen 61462 Germany;X-APPLE-RADIUS=500;X-TITLE=Hauptstraße 13 a:geo:8.4668501,50.1820975
END:VEVENT
BEGIN:VEVENT
DTSTART;TZID=Europe/Berlin:20260925T183000
DTEND;TZID=Europe/Berlin:20260925T183000
DTSTAMP:20260425T122114
CREATED:20260326T164009Z
LAST-MODIFIED:20260326T164451Z
UID:10021882-1790361000-1790361000@xn--knigstein-erleben-zzb.de
SUMMARY:Eine kleine Heilklima-Wanderung
DESCRIPTION:Kurzweiliger und belebender Ausflug ins reizende Klima Königsteins\n„Eine kleine Heilklima-Wanderung“ führt auf den Königsteiner Burgberg oder in das innerstädtische Naturschutzgebiet des „Falkensteiner Hains“ und dauert rund 90 Minuten – manchmal etwas länger. \nNaturnahe Pfade und viele schöne Aus- und Ansichten entlang des Weges sorgen für Ausgleich und Wohlbefinden. Die Wegführung kann abschnittsweise geländegängig und/oder anspruchsvoll sein. Kleine Übungseinheiten zur Mobilisierung\, Kräftigung\, Dehnung und Atmung sowie Pulsmessungen runden das Erlebnis ab. \nDie Teilnahme ist kostenlos\, um Anmeldung wird gebeten:\n(0 61 74) 202 300 oder anmeldung@koenigstein.de \nDas Heilklima-Wandern\nHeilklima-Wandern ist das Gehen im Gelände unter möglichst variablen Klimareizen: Spürbare Veränderungen der Temperatur auf verschiedenen Höhenlagen\, auf wechselnd sonnigen und schattigen oder windigen und windgeschützten Wegen fördern die eigene Widerstandfähigkeit. \nDie reine\, frische Luft und die geschmeidig ineinander übergehenden Höhen und Täler das Hochtaunus bieten ein optimales Terrain zum Wandern. \nFür die Teilnahme an einer Heilklima-Wanderung ist eine gute Gesundheit Voraussetzung. \n \nFoto: Heiko Rhode
URL:https://xn--knigstein-erleben-zzb.de/event/eine-kleine-heilklima-wanderung-74-2-2-2/2026-09-25/
LOCATION:Treffpunkt: Kur- und Stadtinformation\, Hauptstraße 13 a\, Königstein im Taunus\, Hessen\, 61462\, Germany
CATEGORIES:Heilklima,Wandern
ATTACH;FMTTYPE=image/jpeg:https://xn--knigstein-erleben-zzb.de/wp-content/uploads/2026/02/Heilklima-Wanderung-Heiko-Rhode.19.06.2020_19.300-scaled.jpg
ORGANIZER;CN="Kur- und Stadtinformation K%C3%B6nigstein":MAILTO:info@koenigstein.de
GEO:50.1820975;8.4668501
X-APPLE-STRUCTURED-LOCATION;VALUE=URI;X-ADDRESS=Treffpunkt: Kur- und Stadtinformation Hauptstraße 13 a Königstein im Taunus Hessen 61462 Germany;X-APPLE-RADIUS=500;X-TITLE=Hauptstraße 13 a:geo:8.4668501,50.1820975
END:VEVENT
BEGIN:VEVENT
DTSTART;TZID=Europe/Berlin:20260930T183000
DTEND;TZID=Europe/Berlin:20260930T183000
DTSTAMP:20260425T122114
CREATED:20260326T162959Z
LAST-MODIFIED:20260326T162959Z
UID:10021861-1790793000-1790793000@xn--knigstein-erleben-zzb.de
SUMMARY:Eine kleine Stadtführung
DESCRIPTION:Unterhaltsamer Spaziergang durch Königsteins Stadtmitte\nAuf der ca. einstündigen Tour wird kurzweilig und informativ Wissenswertes und Unterhaltsames aus rund 800 Jahren Königsteiner Stadtgeschichte vorgestellt. Von der Entwicklung des Fleckens am Fuße der größten Burg im Vordertaunus zum anerkannten Gesundheitsstandort\, der er heute ist. Unterwegs werden historisch bedeutsame Gebäude\, der Kurpark und die Altstadt erkundet. \nDie Teilnahme ist kostenfrei\, um Anmeldung wird gebeten:\n(0 61 74) 202 300 oder anmeldung@koenigstein.de \n \nFoto: Leonhard Helm
URL:https://xn--knigstein-erleben-zzb.de/event/eine-kleine-stadtfuehrung-26/2026-09-30/
LOCATION:Treffpunkt: Kur- und Stadtinformation\, Hauptstraße 13 a\, Königstein im Taunus\, Hessen\, 61462\, Germany
CATEGORIES:Allgemein,Führung,Geschichte,Kultur,Unterhaltung
ATTACH;FMTTYPE=image/jpeg:https://xn--knigstein-erleben-zzb.de/wp-content/uploads/2023/07/Altes-Rathaus.jpg
ORGANIZER;CN="Stadtarchiv K%C3%B6nigstein in Kooperation mit der Kur- und Stadtinformation":MAILTO:info@koenigstein.de
GEO:50.1820975;8.4668501
X-APPLE-STRUCTURED-LOCATION;VALUE=URI;X-ADDRESS=Treffpunkt: Kur- und Stadtinformation Hauptstraße 13 a Königstein im Taunus Hessen 61462 Germany;X-APPLE-RADIUS=500;X-TITLE=Hauptstraße 13 a:geo:8.4668501,50.1820975
END:VEVENT
BEGIN:VEVENT
DTSTART;TZID=Europe/Berlin:20261002T183000
DTEND;TZID=Europe/Berlin:20261002T183000
DTSTAMP:20260425T122114
CREATED:20260326T164009Z
LAST-MODIFIED:20260326T164451Z
UID:10021883-1790965800-1790965800@xn--knigstein-erleben-zzb.de
SUMMARY:Eine kleine Heilklima-Wanderung
DESCRIPTION:Kurzweiliger und belebender Ausflug ins reizende Klima Königsteins\n„Eine kleine Heilklima-Wanderung“ führt auf den Königsteiner Burgberg oder in das innerstädtische Naturschutzgebiet des „Falkensteiner Hains“ und dauert rund 90 Minuten – manchmal etwas länger. \nNaturnahe Pfade und viele schöne Aus- und Ansichten entlang des Weges sorgen für Ausgleich und Wohlbefinden. Die Wegführung kann abschnittsweise geländegängig und/oder anspruchsvoll sein. Kleine Übungseinheiten zur Mobilisierung\, Kräftigung\, Dehnung und Atmung sowie Pulsmessungen runden das Erlebnis ab. \nDie Teilnahme ist kostenlos\, um Anmeldung wird gebeten:\n(0 61 74) 202 300 oder anmeldung@koenigstein.de \nDas Heilklima-Wandern\nHeilklima-Wandern ist das Gehen im Gelände unter möglichst variablen Klimareizen: Spürbare Veränderungen der Temperatur auf verschiedenen Höhenlagen\, auf wechselnd sonnigen und schattigen oder windigen und windgeschützten Wegen fördern die eigene Widerstandfähigkeit. \nDie reine\, frische Luft und die geschmeidig ineinander übergehenden Höhen und Täler das Hochtaunus bieten ein optimales Terrain zum Wandern. \nFür die Teilnahme an einer Heilklima-Wanderung ist eine gute Gesundheit Voraussetzung. \n \nFoto: Heiko Rhode
URL:https://xn--knigstein-erleben-zzb.de/event/eine-kleine-heilklima-wanderung-74-2-2-2/2026-10-02/
LOCATION:Treffpunkt: Kur- und Stadtinformation\, Hauptstraße 13 a\, Königstein im Taunus\, Hessen\, 61462\, Germany
CATEGORIES:Heilklima,Wandern
ATTACH;FMTTYPE=image/jpeg:https://xn--knigstein-erleben-zzb.de/wp-content/uploads/2026/02/Heilklima-Wanderung-Heiko-Rhode.19.06.2020_19.300-scaled.jpg
ORGANIZER;CN="Kur- und Stadtinformation K%C3%B6nigstein":MAILTO:info@koenigstein.de
GEO:50.1820975;8.4668501
X-APPLE-STRUCTURED-LOCATION;VALUE=URI;X-ADDRESS=Treffpunkt: Kur- und Stadtinformation Hauptstraße 13 a Königstein im Taunus Hessen 61462 Germany;X-APPLE-RADIUS=500;X-TITLE=Hauptstraße 13 a:geo:8.4668501,50.1820975
END:VEVENT
BEGIN:VEVENT
DTSTART;TZID=Europe/Berlin:20261009T183000
DTEND;TZID=Europe/Berlin:20261009T183000
DTSTAMP:20260425T122114
CREATED:20260326T164009Z
LAST-MODIFIED:20260326T164451Z
UID:10021884-1791570600-1791570600@xn--knigstein-erleben-zzb.de
SUMMARY:Eine kleine Heilklima-Wanderung
DESCRIPTION:Kurzweiliger und belebender Ausflug ins reizende Klima Königsteins\n„Eine kleine Heilklima-Wanderung“ führt auf den Königsteiner Burgberg oder in das innerstädtische Naturschutzgebiet des „Falkensteiner Hains“ und dauert rund 90 Minuten – manchmal etwas länger. \nNaturnahe Pfade und viele schöne Aus- und Ansichten entlang des Weges sorgen für Ausgleich und Wohlbefinden. Die Wegführung kann abschnittsweise geländegängig und/oder anspruchsvoll sein. Kleine Übungseinheiten zur Mobilisierung\, Kräftigung\, Dehnung und Atmung sowie Pulsmessungen runden das Erlebnis ab. \nDie Teilnahme ist kostenlos\, um Anmeldung wird gebeten:\n(0 61 74) 202 300 oder anmeldung@koenigstein.de \nDas Heilklima-Wandern\nHeilklima-Wandern ist das Gehen im Gelände unter möglichst variablen Klimareizen: Spürbare Veränderungen der Temperatur auf verschiedenen Höhenlagen\, auf wechselnd sonnigen und schattigen oder windigen und windgeschützten Wegen fördern die eigene Widerstandfähigkeit. \nDie reine\, frische Luft und die geschmeidig ineinander übergehenden Höhen und Täler das Hochtaunus bieten ein optimales Terrain zum Wandern. \nFür die Teilnahme an einer Heilklima-Wanderung ist eine gute Gesundheit Voraussetzung. \n \nFoto: Heiko Rhode
URL:https://xn--knigstein-erleben-zzb.de/event/eine-kleine-heilklima-wanderung-74-2-2-2/2026-10-09/
LOCATION:Treffpunkt: Kur- und Stadtinformation\, Hauptstraße 13 a\, Königstein im Taunus\, Hessen\, 61462\, Germany
CATEGORIES:Heilklima,Wandern
ATTACH;FMTTYPE=image/jpeg:https://xn--knigstein-erleben-zzb.de/wp-content/uploads/2026/02/Heilklima-Wanderung-Heiko-Rhode.19.06.2020_19.300-scaled.jpg
ORGANIZER;CN="Kur- und Stadtinformation K%C3%B6nigstein":MAILTO:info@koenigstein.de
GEO:50.1820975;8.4668501
X-APPLE-STRUCTURED-LOCATION;VALUE=URI;X-ADDRESS=Treffpunkt: Kur- und Stadtinformation Hauptstraße 13 a Königstein im Taunus Hessen 61462 Germany;X-APPLE-RADIUS=500;X-TITLE=Hauptstraße 13 a:geo:8.4668501,50.1820975
END:VEVENT
BEGIN:VEVENT
DTSTART;TZID=Europe/Berlin:20261016T183000
DTEND;TZID=Europe/Berlin:20261016T183000
DTSTAMP:20260425T122114
CREATED:20260326T164009Z
LAST-MODIFIED:20260326T164451Z
UID:10021885-1792175400-1792175400@xn--knigstein-erleben-zzb.de
SUMMARY:Eine kleine Heilklima-Wanderung
DESCRIPTION:Kurzweiliger und belebender Ausflug ins reizende Klima Königsteins\n„Eine kleine Heilklima-Wanderung“ führt auf den Königsteiner Burgberg oder in das innerstädtische Naturschutzgebiet des „Falkensteiner Hains“ und dauert rund 90 Minuten – manchmal etwas länger. \nNaturnahe Pfade und viele schöne Aus- und Ansichten entlang des Weges sorgen für Ausgleich und Wohlbefinden. Die Wegführung kann abschnittsweise geländegängig und/oder anspruchsvoll sein. Kleine Übungseinheiten zur Mobilisierung\, Kräftigung\, Dehnung und Atmung sowie Pulsmessungen runden das Erlebnis ab. \nDie Teilnahme ist kostenlos\, um Anmeldung wird gebeten:\n(0 61 74) 202 300 oder anmeldung@koenigstein.de \nDas Heilklima-Wandern\nHeilklima-Wandern ist das Gehen im Gelände unter möglichst variablen Klimareizen: Spürbare Veränderungen der Temperatur auf verschiedenen Höhenlagen\, auf wechselnd sonnigen und schattigen oder windigen und windgeschützten Wegen fördern die eigene Widerstandfähigkeit. \nDie reine\, frische Luft und die geschmeidig ineinander übergehenden Höhen und Täler das Hochtaunus bieten ein optimales Terrain zum Wandern. \nFür die Teilnahme an einer Heilklima-Wanderung ist eine gute Gesundheit Voraussetzung. \n \nFoto: Heiko Rhode
URL:https://xn--knigstein-erleben-zzb.de/event/eine-kleine-heilklima-wanderung-74-2-2-2/2026-10-16/
LOCATION:Treffpunkt: Kur- und Stadtinformation\, Hauptstraße 13 a\, Königstein im Taunus\, Hessen\, 61462\, Germany
CATEGORIES:Heilklima,Wandern
ATTACH;FMTTYPE=image/jpeg:https://xn--knigstein-erleben-zzb.de/wp-content/uploads/2026/02/Heilklima-Wanderung-Heiko-Rhode.19.06.2020_19.300-scaled.jpg
ORGANIZER;CN="Kur- und Stadtinformation K%C3%B6nigstein":MAILTO:info@koenigstein.de
GEO:50.1820975;8.4668501
X-APPLE-STRUCTURED-LOCATION;VALUE=URI;X-ADDRESS=Treffpunkt: Kur- und Stadtinformation Hauptstraße 13 a Königstein im Taunus Hessen 61462 Germany;X-APPLE-RADIUS=500;X-TITLE=Hauptstraße 13 a:geo:8.4668501,50.1820975
END:VEVENT
BEGIN:VEVENT
DTSTART;TZID=Europe/Berlin:20261023T183000
DTEND;TZID=Europe/Berlin:20261023T183000
DTSTAMP:20260425T122114
CREATED:20260326T164009Z
LAST-MODIFIED:20260326T164451Z
UID:10021886-1792780200-1792780200@xn--knigstein-erleben-zzb.de
SUMMARY:Eine kleine Heilklima-Wanderung
DESCRIPTION:Kurzweiliger und belebender Ausflug ins reizende Klima Königsteins\n„Eine kleine Heilklima-Wanderung“ führt auf den Königsteiner Burgberg oder in das innerstädtische Naturschutzgebiet des „Falkensteiner Hains“ und dauert rund 90 Minuten – manchmal etwas länger. \nNaturnahe Pfade und viele schöne Aus- und Ansichten entlang des Weges sorgen für Ausgleich und Wohlbefinden. Die Wegführung kann abschnittsweise geländegängig und/oder anspruchsvoll sein. Kleine Übungseinheiten zur Mobilisierung\, Kräftigung\, Dehnung und Atmung sowie Pulsmessungen runden das Erlebnis ab. \nDie Teilnahme ist kostenlos\, um Anmeldung wird gebeten:\n(0 61 74) 202 300 oder anmeldung@koenigstein.de \nDas Heilklima-Wandern\nHeilklima-Wandern ist das Gehen im Gelände unter möglichst variablen Klimareizen: Spürbare Veränderungen der Temperatur auf verschiedenen Höhenlagen\, auf wechselnd sonnigen und schattigen oder windigen und windgeschützten Wegen fördern die eigene Widerstandfähigkeit. \nDie reine\, frische Luft und die geschmeidig ineinander übergehenden Höhen und Täler das Hochtaunus bieten ein optimales Terrain zum Wandern. \nFür die Teilnahme an einer Heilklima-Wanderung ist eine gute Gesundheit Voraussetzung. \n \nFoto: Heiko Rhode
URL:https://xn--knigstein-erleben-zzb.de/event/eine-kleine-heilklima-wanderung-74-2-2-2/2026-10-23/
LOCATION:Treffpunkt: Kur- und Stadtinformation\, Hauptstraße 13 a\, Königstein im Taunus\, Hessen\, 61462\, Germany
CATEGORIES:Heilklima,Wandern
ATTACH;FMTTYPE=image/jpeg:https://xn--knigstein-erleben-zzb.de/wp-content/uploads/2026/02/Heilklima-Wanderung-Heiko-Rhode.19.06.2020_19.300-scaled.jpg
ORGANIZER;CN="Kur- und Stadtinformation K%C3%B6nigstein":MAILTO:info@koenigstein.de
GEO:50.1820975;8.4668501
X-APPLE-STRUCTURED-LOCATION;VALUE=URI;X-ADDRESS=Treffpunkt: Kur- und Stadtinformation Hauptstraße 13 a Königstein im Taunus Hessen 61462 Germany;X-APPLE-RADIUS=500;X-TITLE=Hauptstraße 13 a:geo:8.4668501,50.1820975
END:VEVENT
BEGIN:VEVENT
DTSTART;TZID=Europe/Berlin:20261030T183000
DTEND;TZID=Europe/Berlin:20261030T183000
DTSTAMP:20260425T122114
CREATED:20260326T164009Z
LAST-MODIFIED:20260326T164451Z
UID:10021887-1793385000-1793385000@xn--knigstein-erleben-zzb.de
SUMMARY:Eine kleine Heilklima-Wanderung
DESCRIPTION:Kurzweiliger und belebender Ausflug ins reizende Klima Königsteins\n„Eine kleine Heilklima-Wanderung“ führt auf den Königsteiner Burgberg oder in das innerstädtische Naturschutzgebiet des „Falkensteiner Hains“ und dauert rund 90 Minuten – manchmal etwas länger. \nNaturnahe Pfade und viele schöne Aus- und Ansichten entlang des Weges sorgen für Ausgleich und Wohlbefinden. Die Wegführung kann abschnittsweise geländegängig und/oder anspruchsvoll sein. Kleine Übungseinheiten zur Mobilisierung\, Kräftigung\, Dehnung und Atmung sowie Pulsmessungen runden das Erlebnis ab. \nDie Teilnahme ist kostenlos\, um Anmeldung wird gebeten:\n(0 61 74) 202 300 oder anmeldung@koenigstein.de \nDas Heilklima-Wandern\nHeilklima-Wandern ist das Gehen im Gelände unter möglichst variablen Klimareizen: Spürbare Veränderungen der Temperatur auf verschiedenen Höhenlagen\, auf wechselnd sonnigen und schattigen oder windigen und windgeschützten Wegen fördern die eigene Widerstandfähigkeit. \nDie reine\, frische Luft und die geschmeidig ineinander übergehenden Höhen und Täler das Hochtaunus bieten ein optimales Terrain zum Wandern. \nFür die Teilnahme an einer Heilklima-Wanderung ist eine gute Gesundheit Voraussetzung. \n \nFoto: Heiko Rhode
URL:https://xn--knigstein-erleben-zzb.de/event/eine-kleine-heilklima-wanderung-74-2-2-2/2026-10-30/
LOCATION:Treffpunkt: Kur- und Stadtinformation\, Hauptstraße 13 a\, Königstein im Taunus\, Hessen\, 61462\, Germany
CATEGORIES:Heilklima,Wandern
ATTACH;FMTTYPE=image/jpeg:https://xn--knigstein-erleben-zzb.de/wp-content/uploads/2026/02/Heilklima-Wanderung-Heiko-Rhode.19.06.2020_19.300-scaled.jpg
ORGANIZER;CN="Kur- und Stadtinformation K%C3%B6nigstein":MAILTO:info@koenigstein.de
GEO:50.1820975;8.4668501
X-APPLE-STRUCTURED-LOCATION;VALUE=URI;X-ADDRESS=Treffpunkt: Kur- und Stadtinformation Hauptstraße 13 a Königstein im Taunus Hessen 61462 Germany;X-APPLE-RADIUS=500;X-TITLE=Hauptstraße 13 a:geo:8.4668501,50.1820975
END:VEVENT
BEGIN:VEVENT
DTSTART;TZID=Europe/Berlin:20261127T183000
DTEND;TZID=Europe/Berlin:20261127T183000
DTSTAMP:20260425T122114
CREATED:20260326T164009Z
LAST-MODIFIED:20260326T164451Z
UID:10021888-1795804200-1795804200@xn--knigstein-erleben-zzb.de
SUMMARY:Eine kleine Heilklima-Wanderung
DESCRIPTION:Kurzweiliger und belebender Ausflug ins reizende Klima Königsteins\n„Eine kleine Heilklima-Wanderung“ führt auf den Königsteiner Burgberg oder in das innerstädtische Naturschutzgebiet des „Falkensteiner Hains“ und dauert rund 90 Minuten – manchmal etwas länger. \nNaturnahe Pfade und viele schöne Aus- und Ansichten entlang des Weges sorgen für Ausgleich und Wohlbefinden. Die Wegführung kann abschnittsweise geländegängig und/oder anspruchsvoll sein. Kleine Übungseinheiten zur Mobilisierung\, Kräftigung\, Dehnung und Atmung sowie Pulsmessungen runden das Erlebnis ab. \nDie Teilnahme ist kostenlos\, um Anmeldung wird gebeten:\n(0 61 74) 202 300 oder anmeldung@koenigstein.de \nDas Heilklima-Wandern\nHeilklima-Wandern ist das Gehen im Gelände unter möglichst variablen Klimareizen: Spürbare Veränderungen der Temperatur auf verschiedenen Höhenlagen\, auf wechselnd sonnigen und schattigen oder windigen und windgeschützten Wegen fördern die eigene Widerstandfähigkeit. \nDie reine\, frische Luft und die geschmeidig ineinander übergehenden Höhen und Täler das Hochtaunus bieten ein optimales Terrain zum Wandern. \nFür die Teilnahme an einer Heilklima-Wanderung ist eine gute Gesundheit Voraussetzung. \n \nFoto: Heiko Rhode
URL:https://xn--knigstein-erleben-zzb.de/event/eine-kleine-heilklima-wanderung-74-2-2-2/2026-11-27/
LOCATION:Treffpunkt: Kur- und Stadtinformation\, Hauptstraße 13 a\, Königstein im Taunus\, Hessen\, 61462\, Germany
CATEGORIES:Heilklima,Wandern
ATTACH;FMTTYPE=image/jpeg:https://xn--knigstein-erleben-zzb.de/wp-content/uploads/2026/02/Heilklima-Wanderung-Heiko-Rhode.19.06.2020_19.300-scaled.jpg
ORGANIZER;CN="Kur- und Stadtinformation K%C3%B6nigstein":MAILTO:info@koenigstein.de
GEO:50.1820975;8.4668501
X-APPLE-STRUCTURED-LOCATION;VALUE=URI;X-ADDRESS=Treffpunkt: Kur- und Stadtinformation Hauptstraße 13 a Königstein im Taunus Hessen 61462 Germany;X-APPLE-RADIUS=500;X-TITLE=Hauptstraße 13 a:geo:8.4668501,50.1820975
END:VEVENT
END:VCALENDAR