BEGIN:VCALENDAR
VERSION:2.0
PRODID:-//Königstein - Erleben - ECPv6.15.19//NONSGML v1.0//EN
CALSCALE:GREGORIAN
METHOD:PUBLISH
X-ORIGINAL-URL:https://xn--knigstein-erleben-zzb.de
X-WR-CALDESC:Veranstaltungen für Königstein - Erleben
REFRESH-INTERVAL;VALUE=DURATION:PT1H
X-Robots-Tag:noindex
X-PUBLISHED-TTL:PT1H
BEGIN:VTIMEZONE
TZID:Europe/Berlin
BEGIN:DAYLIGHT
TZOFFSETFROM:+0100
TZOFFSETTO:+0200
TZNAME:CEST
DTSTART:20230326T010000
END:DAYLIGHT
BEGIN:STANDARD
TZOFFSETFROM:+0200
TZOFFSETTO:+0100
TZNAME:CET
DTSTART:20231029T010000
END:STANDARD
BEGIN:DAYLIGHT
TZOFFSETFROM:+0100
TZOFFSETTO:+0200
TZNAME:CEST
DTSTART:20240331T010000
END:DAYLIGHT
BEGIN:STANDARD
TZOFFSETFROM:+0200
TZOFFSETTO:+0100
TZNAME:CET
DTSTART:20241027T010000
END:STANDARD
BEGIN:DAYLIGHT
TZOFFSETFROM:+0100
TZOFFSETTO:+0200
TZNAME:CEST
DTSTART:20250330T010000
END:DAYLIGHT
BEGIN:STANDARD
TZOFFSETFROM:+0200
TZOFFSETTO:+0100
TZNAME:CET
DTSTART:20251026T010000
END:STANDARD
BEGIN:DAYLIGHT
TZOFFSETFROM:+0100
TZOFFSETTO:+0200
TZNAME:CEST
DTSTART:20260329T010000
END:DAYLIGHT
BEGIN:STANDARD
TZOFFSETFROM:+0200
TZOFFSETTO:+0100
TZNAME:CET
DTSTART:20261025T010000
END:STANDARD
BEGIN:DAYLIGHT
TZOFFSETFROM:+0100
TZOFFSETTO:+0200
TZNAME:CEST
DTSTART:20270328T010000
END:DAYLIGHT
BEGIN:STANDARD
TZOFFSETFROM:+0200
TZOFFSETTO:+0100
TZNAME:CET
DTSTART:20271031T010000
END:STANDARD
END:VTIMEZONE
BEGIN:VEVENT
DTSTART;TZID=Europe/Berlin:20260124T130000
DTEND;TZID=Europe/Berlin:20260124T190000
DTSTAMP:20260422T181430
CREATED:20260119T094324Z
LAST-MODIFIED:20260120T100059Z
UID:10019342-1769259600-1769281200@xn--knigstein-erleben-zzb.de
SUMMARY:Apfelwein-Anstich des OGV Mammolshain e.V.
DESCRIPTION:Mundart-Musik zum Apfelweinanstich\n\n\nEingeweihte wissen\, dass der OGV Mammolshain vor zwei Jahren seine Garagen am Kleinfeld umgebaut hat. Entstanden ist ein Apfelweinkeller\, der optimale Bedingungen für die Saftvergärung bietet. Heraus kommt jedes Jahr im Januar ein fruchtiger\, leichter und nicht zu trockener\, mit einem Wort: ein SEHR TRINKBARER Apfelwein\, den der OGV auf seinen Festen ausschenkt. \nVon diesen Festen ist logischerweise der Apfelweinanstich das erste im Jahr. Dieses Jahr fällt es auf den 24. Januar\, wie immer einen Samstag. Die OGV-Halle öffnet ab 12:30 Uhr ihre Tore\, und das erste Fass wird gegen 13 Uhr durch die lokale Politprominenz angestochen. Ab dann kann der Apfelwein probiert werden. Schlachtplatte\, Grünkohl und ein vegetarisches Kartoffelspinatgratin bieten eine sättigende Grundlage in gewohnter Qualität\, die gut mit dem Apfelwein harmoniert. \nEine Neuheit sind dieses Jahr zwei 45-minütige Musikeinlagen des Frankfurter Liedermachers Rainer Weisbecker (https://frankforderisch.hier-im-netz.de/) um 14:00 und um 15:15 Uhr\, der ein Programm in Mundart über den Apfelwein und verwandte Themen bieten wird. \nWenn es draußen kalt und ungemütlich ist\, ist der Apfelweinanstich in der beheizten OGV-Halle am Ende der Schwalbacher Straße die beste Art\, den Samstagnachmittag zu verbringen. Gegen 19 Uhr wird die Veranstaltung ausklingen. Der Eintritt ist wie immer beim OGV kostenlos. \nPlakat: OGV Mammolshain
URL:https://xn--knigstein-erleben-zzb.de/event/apfelwein-anstich-des-ogv-mammolshain-e-v-2/
LOCATION:Vereinshalle des OGV Mammmolshain am Ende der Schwalbacher Straße\, Schwalbacher Straße\, Königstein im Taunus\, Hessen\, 61462\, Germany
CATEGORIES:Familienfest,Musik,Verkostung
ATTACH;FMTTYPE=application/pdf:https://xn--knigstein-erleben-zzb.de/wp-content/uploads/2026/01/FREMD-2026-01-24-OGV-Apfelweinanstich.pdf
ORGANIZER;CN="Obst-und Gartenbauverein Mammolshain":MAILTO:info@ogv-mammolshain.de
GEO:50.1698178;8.4973983
X-APPLE-STRUCTURED-LOCATION;VALUE=URI;X-ADDRESS=Vereinshalle des OGV Mammmolshain am Ende der Schwalbacher Straße Schwalbacher Straße Königstein im Taunus Hessen 61462 Germany;X-APPLE-RADIUS=500;X-TITLE=Schwalbacher Straße:geo:8.4973983,50.1698178
END:VEVENT
BEGIN:VEVENT
DTSTART;TZID=Europe/Berlin:20251011T080000
DTEND;TZID=Europe/Berlin:20251011T180000
DTSTAMP:20260422T181430
CREATED:20250929T140226Z
LAST-MODIFIED:20250929T140632Z
UID:10017415-1760169600-1760205600@xn--knigstein-erleben-zzb.de
SUMMARY:Apfel- und Kastanienmarkt 2025
DESCRIPTION:Jedes Jahr an einem Samstag im Oktober zieht der Herbstmarkt Besucher aus Nah und Fern an. Der Eine kommt wegen der an Ort und Stelle gerösteten Esskastanien aus Mammolshain\, ein Zweiter wegen des frisch gepressten Apfelsafts\, ein Dritter kauft Kartoffeln aus örtlichem Anbau. Das Angebot ist umwerfend: Äpfel\, Nüsse\, Gemüse\, Honig\, Schnaps\, Hausmacher Wurstwaren\, Holzspielzeug\, Strickwaren\, Dekorationsartikel\, ganz zu schweigen von der Grilltheke und dem unendlichen Kuchenbuffet. \n  \n \nPlakat: Wurde vom Veranstalter zur Verfügung gestellt.
URL:https://xn--knigstein-erleben-zzb.de/event/apfel-und-kastanienmarkt-2025/
LOCATION:Vereinshalle des OGV Mammmolshain am Ende der Schwalbacher Straße\, Schwalbacher Straße\, Königstein im Taunus\, Hessen\, 61462\, Germany
CATEGORIES:Allgemein,Genuss,Informationsveranstaltung,Musik,Unterhaltung,Verkostung
ATTACH;FMTTYPE=application/pdf:https://xn--knigstein-erleben-zzb.de/wp-content/uploads/2025/09/FREMD_2025-10-11-Apfel-Kastanienmarkt.pdf
GEO:50.1698178;8.4973983
X-APPLE-STRUCTURED-LOCATION;VALUE=URI;X-ADDRESS=Vereinshalle des OGV Mammmolshain am Ende der Schwalbacher Straße Schwalbacher Straße Königstein im Taunus Hessen 61462 Germany;X-APPLE-RADIUS=500;X-TITLE=Schwalbacher Straße:geo:8.4973983,50.1698178
END:VEVENT
BEGIN:VEVENT
DTSTART;TZID=Europe/Berlin:20250815T190000
DTEND;TZID=Europe/Berlin:20250815T230000
DTSTAMP:20260422T181430
CREATED:20250805T071122Z
LAST-MODIFIED:20250805T071122Z
UID:10017227-1755284400-1755298800@xn--knigstein-erleben-zzb.de
SUMMARY:Hofkonzert
DESCRIPTION:Plakat: OGV Mammolshain e.V. | \n\nHier kommt ein Grund\, sich auf das Ende der Sommerferien zu freuen: Wie immer am letzten Freitag der Ferien gibt es Rock in den Mammolshainer Streuobstwiesen. Der OGV präsentiert wie schon im vergangenen Jahr ‚Too Young too Rust‘\, die Nr 1-Oldie- und Rockband aus dem MTK. Von Oldie bis Rock\, von Neue Deutsche Welle bis Aktuelles von den Toten Hosen\, von Jive bis Apres-Ski-Hits – bei Too Young To Rust kommen alle auf ihre Kosten. Die Band spielt ab ca. 19:30 Uhr vor der OGV-Halle in der Schwalbacher Straße; die Grill- und Getränke-Theken (vom vereinseigenen Apfelwein bis zum Jägermeister-Shot) sind aber schon ab 19 Uhr geöffnet. Der OGV freut sich auf viele Besucher\, die die Sommmerferien bei guter Musik\, guten Getränken und guten Gesprächen ausklingen lassen wollen. \nDer Eintritt ist frei. \n  \n \n 
URL:https://xn--knigstein-erleben-zzb.de/event/hofkonzert-2/
LOCATION:Vereinshalle des OGV Mammmolshain am Ende der Schwalbacher Straße\, Schwalbacher Straße\, Königstein im Taunus\, Hessen\, 61462\, Germany
CATEGORIES:Allgemein,Konzert
ATTACH;FMTTYPE=image/jpeg:https://xn--knigstein-erleben-zzb.de/wp-content/uploads/2025/08/TYTR-A6-15.08.25-Mammolshain2-min.jpg
GEO:50.1698178;8.4973983
X-APPLE-STRUCTURED-LOCATION;VALUE=URI;X-ADDRESS=Vereinshalle des OGV Mammmolshain am Ende der Schwalbacher Straße Schwalbacher Straße Königstein im Taunus Hessen 61462 Germany;X-APPLE-RADIUS=500;X-TITLE=Schwalbacher Straße:geo:8.4973983,50.1698178
END:VEVENT
BEGIN:VEVENT
DTSTART;TZID=Europe/Berlin:20241012T110000
DTEND;TZID=Europe/Berlin:20241012T110000
DTSTAMP:20260422T181430
CREATED:20240313T140147Z
LAST-MODIFIED:20241004T085231Z
UID:10000542-1728730800-1728730800@xn--knigstein-erleben-zzb.de
SUMMARY:Apfel- und Kastanienmarkt
DESCRIPTION:Foto: Marc Pascual auf Pixabay | \n\nAuf dem Mammolshainer Apfel- und Kastanienmarkt gibt’s geröstete Esskastanien\, frisch gepressten Apfelsaft\, Kartoffeln aus örtlichem Anbau\, Äpfel\, Nüsse\, Gemüse\, Honig\, Schnaps\, Hausmacher Wurstwaren\, Holzspielzeug\, Strickwaren\, Dekorationsartikel\, ganz zu schweigen von der Grilltheke und dem unendlichen Kuchenbuffet … lecker! \n  \n 
URL:https://xn--knigstein-erleben-zzb.de/event/apfel-und-kastanienmarkt/
LOCATION:Vereinshalle des OGV Mammmolshain am Ende der Schwalbacher Straße\, Schwalbacher Straße\, Königstein im Taunus\, Hessen\, 61462\, Germany
ATTACH;FMTTYPE=image/jpeg:https://xn--knigstein-erleben-zzb.de/wp-content/uploads/2024/03/Kastanien-chestnuts-1783878_1280-Marc-Pascual-auf-Pixabay.jpg
GEO:50.1698178;8.4973983
X-APPLE-STRUCTURED-LOCATION;VALUE=URI;X-ADDRESS=Vereinshalle des OGV Mammmolshain am Ende der Schwalbacher Straße Schwalbacher Straße Königstein im Taunus Hessen 61462 Germany;X-APPLE-RADIUS=500;X-TITLE=Schwalbacher Straße:geo:8.4973983,50.1698178
END:VEVENT
BEGIN:VEVENT
DTSTART;TZID=Europe/Berlin:20240823T190000
DTEND;TZID=Europe/Berlin:20240823T190000
DTSTAMP:20260422T181430
CREATED:20240313T135550Z
LAST-MODIFIED:20240817T160758Z
UID:10000540-1724439600-1724439600@xn--knigstein-erleben-zzb.de
SUMMARY:Hofkonzert
DESCRIPTION:Plakat: OGV Mammolshain e.V. | \n\nWie immer am letzten Freitag in den hessischen Sommerferien\, aber dieses Mal mit neuer Band – das Hofkonzert ist ein beliebter Treffpunkt für Mammolshainer und auswärtige Musikfans. \nVon Oldie bis Rock\, von Neue Deutsche Welle bis Aktuelles von den Sportfreunden und den Toten Hosen\, von Jive bis Apres-Ski-Hits: So beschreibt die Band ihre Musik. Zu erleben auf dem Open-Air-Konzert vor der OGV-Halle (Schwalbacher Straße) bei freiem Eintritt.
URL:https://xn--knigstein-erleben-zzb.de/event/hofkonzert/
LOCATION:Vereinshalle des OGV Mammmolshain am Ende der Schwalbacher Straße\, Schwalbacher Straße\, Königstein im Taunus\, Hessen\, 61462\, Germany
CATEGORIES:Allgemein,Konzert
ATTACH;FMTTYPE=image/jpeg:https://xn--knigstein-erleben-zzb.de/wp-content/uploads/2024/03/2024-08.23-Hofkonzert-an-der-OGV-Halle.jpg
GEO:50.1698178;8.4973983
X-APPLE-STRUCTURED-LOCATION;VALUE=URI;X-ADDRESS=Vereinshalle des OGV Mammmolshain am Ende der Schwalbacher Straße Schwalbacher Straße Königstein im Taunus Hessen 61462 Germany;X-APPLE-RADIUS=500;X-TITLE=Schwalbacher Straße:geo:8.4973983,50.1698178
END:VEVENT
BEGIN:VEVENT
DTSTART;TZID=Europe/Berlin:20240501T110000
DTEND;TZID=Europe/Berlin:20240501T110000
DTSTAMP:20260422T181430
CREATED:20240312T164256Z
LAST-MODIFIED:20240312T164256Z
UID:10000535-1714561200-1714561200@xn--knigstein-erleben-zzb.de
SUMMARY:Apfelblütenfest
DESCRIPTION:Apfelblütenfest mit Apfelweinprämierung und Wahl des Mammolshainer Apfelweinkönigs
URL:https://xn--knigstein-erleben-zzb.de/event/apfelbluetenfest/
LOCATION:Vereinshalle des OGV Mammmolshain am Ende der Schwalbacher Straße\, Schwalbacher Straße\, Königstein im Taunus\, Hessen\, 61462\, Germany
GEO:50.1698178;8.4973983
X-APPLE-STRUCTURED-LOCATION;VALUE=URI;X-ADDRESS=Vereinshalle des OGV Mammmolshain am Ende der Schwalbacher Straße Schwalbacher Straße Königstein im Taunus Hessen 61462 Germany;X-APPLE-RADIUS=500;X-TITLE=Schwalbacher Straße:geo:8.4973983,50.1698178
END:VEVENT
BEGIN:VEVENT
DTSTART;TZID=Europe/Berlin:20240127T130000
DTEND;TZID=Europe/Berlin:20240127T190000
DTSTAMP:20260422T181430
CREATED:20240115T135100Z
LAST-MODIFIED:20240115T135102Z
UID:10000134-1706360400-1706382000@xn--knigstein-erleben-zzb.de
SUMMARY:Apfelwein-Anstich des OGV Mammolshain e.V.
DESCRIPTION:Der neue Apfelwein ist da! Das muss gefeiert werden. Der Obst- und Gartenbauverein Mammolshain e.V. lädt wieder alle Freunde des lokalen Nationalgetränks zum ‚Antrinken‘ ein. Am Samstag\, den 27. Januar um 13 Uhr öffnet die OGV-Halle ihre Tore für die größte Apfelwein-Anstich-Veranstaltung in Königstein und Umgebung. Begleitet wird der Apfelwein von deftigen regionalen Speisen. Der OGV freut sich auf viele Gäste aus Nah und Fern! Das Ende der Veranstaltung ist gegen 19 Uhr. Adresse: OGV-Vereinshalle am Ende der Schwalbacher Straße im Königsteiner Ortsteil Mammolshain
URL:https://xn--knigstein-erleben-zzb.de/event/apfelwein-anstich-des-ogv-mammolshain-e-v/
LOCATION:Vereinshalle des OGV Mammmolshain am Ende der Schwalbacher Straße\, Schwalbacher Straße\, Königstein im Taunus\, Hessen\, 61462\, Germany
ATTACH;FMTTYPE=image/jpeg:https://xn--knigstein-erleben-zzb.de/wp-content/uploads/2024/01/2024_plakat_Apfelweinanstich-scaled.jpg
ORGANIZER;CN="Obst-und Gartenbauverein Mammolshain":MAILTO:info@ogv-mammolshain.de
GEO:50.1698178;8.4973983
X-APPLE-STRUCTURED-LOCATION;VALUE=URI;X-ADDRESS=Vereinshalle des OGV Mammmolshain am Ende der Schwalbacher Straße Schwalbacher Straße Königstein im Taunus Hessen 61462 Germany;X-APPLE-RADIUS=500;X-TITLE=Schwalbacher Straße:geo:8.4973983,50.1698178
END:VEVENT
END:VCALENDAR